BEGIN:VCALENDAR
VERSION:2.0
PRODID:-//Historic Libbey House Foundation - ECPv6.15.15//NONSGML v1.0//EN
CALSCALE:GREGORIAN
METHOD:PUBLISH
X-WR-CALNAME:Historic Libbey House Foundation
X-ORIGINAL-URL:http://libbeyhouse.org
X-WR-CALDESC:Events for Historic Libbey House Foundation
REFRESH-INTERVAL;VALUE=DURATION:PT1H
X-Robots-Tag:noindex
X-PUBLISHED-TTL:PT1H
BEGIN:VTIMEZONE
TZID:UTC
BEGIN:STANDARD
TZOFFSETFROM:+0000
TZOFFSETTO:+0000
TZNAME:UTC
DTSTART:20190101T000000
END:STANDARD
END:VTIMEZONE
BEGIN:VEVENT
DTSTART;TZID=UTC:20201105T180000
DTEND;TZID=UTC:20201105T200000
DTSTAMP:20260422T163024
CREATED:20200924T001652Z
LAST-MODIFIED:20210315T212310Z
UID:1680-1604599200-1604606400@libbeyhouse.org
SUMMARY:LIBBEY HOUSE WINE TASTING EVENT
DESCRIPTION:SOLD OUT EVENT\nJoin us for a wine tasting on Thursday\, November 5\, from 6:00 to 8:00 p.m.  Jim Sautter\, Level One Sommelier\, of Sautter’s Market with provide informal presentations of six fine wines (one sparkling\, five others) to enjoy with appetizers carefully paired to the wines during this casual evening of wonderful fellowship and fun.  The cost is $40.00. \nSocial distancing and mask wearing (except when eating and drinking) will be observed and and sanitizer will be available. \nDue to social distancing\, tickets are limited to the first 20 registrants.  The cost is $40\, and can be purchased through the Libbey House website: www.libbeyhouse.org The Libbey House offers accessible parking in the lot behind the house off Woodruff\, adjacent to an accessible ramp. Purchase your tickets soon to reserve your place.
URL:http://libbeyhouse.org/event/libbey-house-wine-tasting-event-2/
LOCATION:Libbey House\, 2008 Scottwood Avenue\, Toledo\, OH\, 43620\, United States
CATEGORIES:Education,Fundraiser
ORGANIZER;CN="Libbey House Foundation":MAILTO:libbeyhouse.events@gmail.com
END:VEVENT
END:VCALENDAR