BEGIN:VCALENDAR
VERSION:2.0
PRODID:-//Historic Libbey House Foundation - ECPv6.15.15//NONSGML v1.0//EN
CALSCALE:GREGORIAN
METHOD:PUBLISH
X-WR-CALNAME:Historic Libbey House Foundation
X-ORIGINAL-URL:http://libbeyhouse.org
X-WR-CALDESC:Events for Historic Libbey House Foundation
REFRESH-INTERVAL;VALUE=DURATION:PT1H
X-Robots-Tag:noindex
X-PUBLISHED-TTL:PT1H
BEGIN:VTIMEZONE
TZID:UTC
BEGIN:STANDARD
TZOFFSETFROM:+0000
TZOFFSETTO:+0000
TZNAME:UTC
DTSTART:20190101T000000
END:STANDARD
END:VTIMEZONE
BEGIN:VEVENT
DTSTART;TZID=UTC:20201206T110000
DTEND;TZID=UTC:20201206T150000
DTSTAMP:20260422T152005
CREATED:20201021T021802Z
LAST-MODIFIED:20201113T213205Z
UID:1286-1607252400-1607266800@libbeyhouse.org
SUMMARY:A DICKENS CHRISTMAS TEA @ 11:00\, 1:00\, & 3:00
DESCRIPTION:The Libbey House Foundation and the Women of the Old West End Present  \nA Dickens Christmas Tea \n \nEnjoy Delicious Christmas Teas and explore the Magic of Christmas on all three floors\, along with several Dickens characters in authentic reproductions of historical garments from the era of Charles Dickens to be modeled by Kathy and Joe Dowd. \nSunday December 6th and Sunday December 13th \nThree 90-Minute Seatings available: 11:00AM\, 1:00PM and 3:00 PM  \nPrivate Tea Rooms available on the second floor for small groups \nDelicious Christmas Teas\, Wassail\, Tea Sandwiches & Dickens Desserts \n\nSocial distancing and mask wearing (except when eating and drinking) will be observed and and sanitizer will be available. \nReservations are required; due to social distancing\, seating is limited.  The Libbey House offers accessible parking in the lot behind the house off Woodruff\, adjacent to an accessible ramp.
URL:http://libbeyhouse.org/event/lhf-wowe-a-dickens-christmas-tea/
LOCATION:Libbey House\, 2008 Scottwood Avenue\, Toledo\, OH\, 43620\, United States
CATEGORIES:Fundraiser,Tea,Tours
ORGANIZER;CN="Libbey House Foundation":MAILTO:libbeyhouse.events@gmail.com
END:VEVENT
END:VCALENDAR