BEGIN:VCALENDAR
VERSION:2.0
PRODID:-//Historic Libbey House Foundation - ECPv6.15.15//NONSGML v1.0//EN
CALSCALE:GREGORIAN
METHOD:PUBLISH
X-WR-CALNAME:Historic Libbey House Foundation
X-ORIGINAL-URL:http://libbeyhouse.org
X-WR-CALDESC:Events for Historic Libbey House Foundation
REFRESH-INTERVAL;VALUE=DURATION:PT1H
X-Robots-Tag:noindex
X-PUBLISHED-TTL:PT1H
BEGIN:VTIMEZONE
TZID:America/Detroit
BEGIN:DAYLIGHT
TZOFFSETFROM:-0500
TZOFFSETTO:-0400
TZNAME:EDT
DTSTART:20240310T070000
END:DAYLIGHT
BEGIN:STANDARD
TZOFFSETFROM:-0400
TZOFFSETTO:-0500
TZNAME:EST
DTSTART:20241103T060000
END:STANDARD
BEGIN:DAYLIGHT
TZOFFSETFROM:-0500
TZOFFSETTO:-0400
TZNAME:EDT
DTSTART:20250309T070000
END:DAYLIGHT
BEGIN:STANDARD
TZOFFSETFROM:-0400
TZOFFSETTO:-0500
TZNAME:EST
DTSTART:20251102T060000
END:STANDARD
BEGIN:DAYLIGHT
TZOFFSETFROM:-0500
TZOFFSETTO:-0400
TZNAME:EDT
DTSTART:20260308T070000
END:DAYLIGHT
BEGIN:STANDARD
TZOFFSETFROM:-0400
TZOFFSETTO:-0500
TZNAME:EST
DTSTART:20261101T060000
END:STANDARD
END:VTIMEZONE
BEGIN:VTIMEZONE
TZID:UTC
BEGIN:STANDARD
TZOFFSETFROM:+0000
TZOFFSETTO:+0000
TZNAME:UTC
DTSTART:20180101T000000
END:STANDARD
END:VTIMEZONE
BEGIN:VEVENT
DTSTART;TZID=America/Detroit:20250607T110000
DTEND;TZID=America/Detroit:20250608T180000
DTSTAMP:20260423T062353
CREATED:20241213T035038Z
LAST-MODIFIED:20250123T015133Z
UID:2847-1749294000-1749405600@libbeyhouse.org
SUMMARY:BEER & WINE GARDEN | OWEA Old West End Festival | June 7 & 8
DESCRIPTION:Come join us for the Old West End Festival on June 7 & 8 from 11 AM until 6 PM each day.  Wine and an assortment of beers will be available for purchase\, offering a nice respite during the Old West End Festival\, located in the tented front-yard of the Libbey House lawn\, which will host this free family friendly event.
URL:http://libbeyhouse.org/event/beer-wine-garden-owea-old-west-end-festival-6/
LOCATION:Libbey House\, 2008 Scottwood Avenue\, Toledo\, OH\, 43620\, United States
CATEGORIES:Festival,Fundraiser,Tours
ATTACH;FMTTYPE=image/jpeg:http://libbeyhouse.org/wp-content/uploads/2022/05/Libbey-Beer-Wine-Garden-logo.jpg
ORGANIZER;CN="Libbey House Foundation":MAILTO:libbeyhouse.events@gmail.com
END:VEVENT
BEGIN:VEVENT
DTSTART;TZID=UTC:20240601T110000
DTEND;TZID=UTC:20240602T180000
DTSTAMP:20260423T062353
CREATED:20231205T030430Z
LAST-MODIFIED:20240128T172125Z
UID:1890-1717239600-1717351200@libbeyhouse.org
SUMMARY:BEER & WINE GARDEN | OWEA Old West End Festival
DESCRIPTION:Come join us for the Old West End Festival on June 1 & 2 from 11 AM until 6 PM each day.  Wine and an assortment of Beers will be available for purchase\, offering a nice respite during the Old West End Festival\, located in the tented front-yard of the Libbey House lawn\, which will host this free family friendly event.
URL:http://libbeyhouse.org/event/beer-wine-garden-owea-old-west-end-festival-5/
LOCATION:Libbey House\, 2008 Scottwood Avenue\, Toledo\, OH\, 43620\, United States
CATEGORIES:Festival,Fundraiser,Tours
ATTACH;FMTTYPE=image/jpeg:http://libbeyhouse.org/wp-content/uploads/2022/05/Libbey-Beer-Wine-Garden-logo.jpg
ORGANIZER;CN="Libbey House Foundation":MAILTO:libbeyhouse.events@gmail.com
END:VEVENT
BEGIN:VEVENT
DTSTART;TZID=UTC:20230604T110000
DTEND;TZID=UTC:20230604T180000
DTSTAMP:20260423T062353
CREATED:20230122T232320Z
LAST-MODIFIED:20230518T020546Z
UID:2597-1685876400-1685901600@libbeyhouse.org
SUMMARY:BEER & WINE GARDEN | OWEA Old West End Festival
DESCRIPTION:Come join us for the Old West End Festival on June 3 & 4 from 11 AM until 6 PM each day.  The Libbey House is a Festival Tour House this year. A selection of beers\, wine and cocktails will be available for purchase\, offering a nice respite during the Old West End Festival\, located in the tented front-yard of the Libbey House lawn\, which will host this free family friendly event.  We will also have a Super Sale on the first floor featuring Libbey glassware\, dinnerware\, and other treasures. \n 
URL:http://libbeyhouse.org/event/beer-wine-garden-owea-old-west-end-festival-4/
LOCATION:Libbey House\, 2008 Scottwood Avenue\, Toledo\, OH\, 43620\, United States
CATEGORIES:Festival,Fundraiser,Tours
ATTACH;FMTTYPE=image/jpeg:http://libbeyhouse.org/wp-content/uploads/2022/05/Libbey-Beer-Wine-Garden-logo.jpg
ORGANIZER;CN="Libbey House Foundation":MAILTO:libbeyhouse.events@gmail.com
END:VEVENT
BEGIN:VEVENT
DTSTART;TZID=UTC:20230603T110000
DTEND;TZID=UTC:20230603T180000
DTSTAMP:20260423T062353
CREATED:20230122T232253Z
LAST-MODIFIED:20230518T020513Z
UID:1888-1685790000-1685815200@libbeyhouse.org
SUMMARY:BEER & WINE GARDEN | OWEA Old West End Festival
DESCRIPTION:Come join us for the Old West End Festival on June 3 & 4 from 11 AM until 6 PM each day.  The Libbey House is a Festival Tour House this year. A selection of beers\, wine and cocktails will be available for purchase\, offering a nice respite during the Old West End Festival\, located in the tented front-yard of the Libbey House lawn\, which will host this free family friendly event.  We will also have a Super Sale on the first floor featuring Libbey glassware\, dinnerware\, and other treasures. \n 
URL:http://libbeyhouse.org/event/beer-wine-garden-owea-old-west-end-festival-3/
LOCATION:Libbey House\, 2008 Scottwood Avenue\, Toledo\, OH\, 43620\, United States
CATEGORIES:Festival,Fundraiser,Tours
ATTACH;FMTTYPE=image/jpeg:http://libbeyhouse.org/wp-content/uploads/2022/05/Libbey-Beer-Wine-Garden-logo.jpg
ORGANIZER;CN="Libbey House Foundation":MAILTO:libbeyhouse.events@gmail.com
END:VEVENT
BEGIN:VEVENT
DTSTART;TZID=UTC:20220605T110000
DTEND;TZID=UTC:20220605T180000
DTSTAMP:20260423T062353
CREATED:20220527T231436Z
LAST-MODIFIED:20220527T231528Z
UID:2371-1654426800-1654452000@libbeyhouse.org
SUMMARY:BEER & WINE GARDEN | OWEA Old West End Festival
DESCRIPTION:Come join us for the Old West End Festival on June 4 & 5 from 11 AM until 6 PM each day.  The Libbey House is a Festival Tour House this year. A selection of beers\, wine and cocktails will be available for purchase\, offering a nice respite during the Old West End Festival\, located in the tented front-yard of the Libbey House lawn\, which will host this free family friendly event.  We will also have a Tent Sale featuring Libbey glassware\, dinnerware\, and other treasures. \n \n 
URL:http://libbeyhouse.org/event/beer-wine-garden-owea-old-west-end-festival-2/
LOCATION:Libbey House\, 2008 Scottwood Avenue\, Toledo\, OH\, 43620\, United States
CATEGORIES:Festival,Fundraiser,Tours
ATTACH;FMTTYPE=image/jpeg:http://libbeyhouse.org/wp-content/uploads/2022/05/Libbey-Beer-Wine-Garden-logo.jpg
ORGANIZER;CN="Libbey House Foundation":MAILTO:libbeyhouse.events@gmail.com
END:VEVENT
BEGIN:VEVENT
DTSTART;TZID=UTC:20220604T110000
DTEND;TZID=UTC:20220604T180000
DTSTAMP:20260423T062353
CREATED:20220507T003450Z
LAST-MODIFIED:20220527T231427Z
UID:1120-1654340400-1654365600@libbeyhouse.org
SUMMARY:BEER & WINE GARDEN | OWEA Old West End Festival
DESCRIPTION:Come join us for the Old West End Festival on June 4 & 5 from 11 AM until 6 PM each day.  The Libbey House is a Festival Tour House this year. A selection of beers\, wine and cocktails will be available for purchase\, offering a nice respite during the Old West End Festival\, located in the tented front-yard of the Libbey House lawn\, which will host this free family friendly event.  We will also have a Tent Sale featuring Libbey glassware\, dinnerware\, and other treasures. \n \n 
URL:http://libbeyhouse.org/event/beer-wine-garden-owea-old-west-end-festival/
LOCATION:Libbey House\, 2008 Scottwood Avenue\, Toledo\, OH\, 43620\, United States
CATEGORIES:Festival,Fundraiser,Tours
ATTACH;FMTTYPE=image/jpeg:http://libbeyhouse.org/wp-content/uploads/2022/05/Libbey-Beer-Wine-Garden-logo.jpg
ORGANIZER;CN="Libbey House Foundation":MAILTO:libbeyhouse.events@gmail.com
END:VEVENT
BEGIN:VEVENT
DTSTART;TZID=UTC:20190601T120000
DTEND;TZID=UTC:20190602T180000
DTSTAMP:20260423T062353
CREATED:20190525T010329Z
LAST-MODIFIED:20190531T031852Z
UID:403-1559390400-1559498400@libbeyhouse.org
SUMMARY:BEER GARDEN | OWEA Old West End Festival
DESCRIPTION:Come join us for the Old West End Festival on June 1 & 2 from Noon until 6 PM each day.  Maumee Bay Brewing Co. Beers and Root Beer will be available for purchase\, offering a nice respite during the Old West End Festival\, located in the tented front-yard of the Libbey House lawn\, which will host this free family friendly event. A Glass Super Sale will be held inside on the first floor of the Libbey House. \n \nIf you are interested in volunteering to help out at the event we’d really appreciate any time you can donate. Below is a link to a signup sheet with dates and times. \nSignup Now
URL:http://libbeyhouse.org/event/old-west-end-festival/
LOCATION:Libbey House\, 2008 Scottwood Avenue\, Toledo\, OH\, 43620\, United States
CATEGORIES:Festival,Fundraiser
ORGANIZER;CN="Libbey House Foundation":MAILTO:libbeyhouse.events@gmail.com
END:VEVENT
BEGIN:VEVENT
DTSTART;TZID=UTC:20190601T110000
DTEND;TZID=UTC:20190601T180000
DTSTAMP:20260423T062353
CREATED:20190525T020800Z
LAST-MODIFIED:20190531T031859Z
UID:423-1559386800-1559412000@libbeyhouse.org
SUMMARY:GLASS SUPER SALE
DESCRIPTION:GLASS SUPER SALE \nCome join us for the Old West End Festival on June 1 & 2 from 11 AM until 6 PM each day.  A Glass Super Sale will be held inside on the first floor of the Libbey House.  Maumee Bay Brewing Co. Beers and Root Beer will be available for purchase\, offering a nice respite during the Old West End Festival\, located in the tented front-yard of the Libbey House lawn\, which will host this free family friendly event. \n \nIf you are interested in volunteering to help out at the event we’d really appreciate any time you can donate. Below is a link to a signup sheet with dates and times. \nSignup Now
URL:http://libbeyhouse.org/event/libbey-glass-super-sale/
LOCATION:Libbey House\, 2008 Scottwood Avenue\, Toledo\, OH\, 43620\, United States
CATEGORIES:Festival,Fundraiser
ORGANIZER;CN="Libbey House Foundation":MAILTO:libbeyhouse.events@gmail.com
END:VEVENT
END:VCALENDAR