BEGIN:VCALENDAR
VERSION:2.0
PRODID:-//Historic Libbey House Foundation - ECPv6.15.15//NONSGML v1.0//EN
CALSCALE:GREGORIAN
METHOD:PUBLISH
X-WR-CALNAME:Historic Libbey House Foundation
X-ORIGINAL-URL:http://libbeyhouse.org
X-WR-CALDESC:Events for Historic Libbey House Foundation
REFRESH-INTERVAL;VALUE=DURATION:PT1H
X-Robots-Tag:noindex
X-PUBLISHED-TTL:PT1H
BEGIN:VTIMEZONE
TZID:UTC
BEGIN:STANDARD
TZOFFSETFROM:+0000
TZOFFSETTO:+0000
TZNAME:UTC
DTSTART:20240101T000000
END:STANDARD
END:VTIMEZONE
BEGIN:VEVENT
DTSTART;TZID=UTC:20251205T180000
DTEND;TZID=UTC:20251205T200000
DTSTAMP:20260423T010829
CREATED:20250123T014933Z
LAST-MODIFIED:20251202T233245Z
UID:3103-1764957600-1764964800@libbeyhouse.org
SUMMARY:WINTERFEST: LIBBEY HOUSE CHRISTMAS COCKTAILS & HOUSE TOUR | SOLD OUT
DESCRIPTION:The Libbey House Foundation Presents \nWINTERFEST: Libbey House Christmas Cocktails and House Tour \n \nSOLD OUT \nFriday\, December 5th \nLibbey House Christmas Cocktails and House Tour between 6:00 PM – 8:00 PM \nTour the Libbey House exploring the magic of Christmas on all three floors and enjoy spiked punch\, wine and appetizers for $25.00.  Reservations required and must be 21 to attend. \n \nYour reservation will be documented and there is no “ticket” sent to you. Your confirmation email will serve as your receipt if there are any issues at check in. \nThe Libbey House offers accessible parking in the lot behind the house off Woodruff\, adjacent to an accessible ramp. \nAll ticket sales are NON-REFUNDABLE. If the event is rescheduled\, all ticket purchases will be honored for the rescheduled event date. If the event is canceled\, all ticket purchases will be refunded in full.
URL:http://libbeyhouse.org/event/winterfest-libbey-house-christmas-cocktails-house-tour-dec-5/
LOCATION:Libbey House\, 2008 Scottwood Avenue\, Toledo\, OH\, 43620\, United States
CATEGORIES:Fundraiser,Holiday,Libbey,Party,Tours
ATTACH;FMTTYPE=image/jpeg:http://libbeyhouse.org/wp-content/uploads/2023/10/Christmas-Decorations.jpg
ORGANIZER;CN="Libbey House Foundation":MAILTO:libbeyhouse.events@gmail.com
END:VEVENT
END:VCALENDAR