BEGIN:VCALENDAR
VERSION:2.0
PRODID:-//Historic Libbey House Foundation - ECPv6.15.15//NONSGML v1.0//EN
CALSCALE:GREGORIAN
METHOD:PUBLISH
X-ORIGINAL-URL:http://libbeyhouse.org
X-WR-CALDESC:Events for Historic Libbey House Foundation
REFRESH-INTERVAL;VALUE=DURATION:PT1H
X-Robots-Tag:noindex
X-PUBLISHED-TTL:PT1H
BEGIN:VTIMEZONE
TZID:UTC
BEGIN:STANDARD
TZOFFSETFROM:+0000
TZOFFSETTO:+0000
TZNAME:UTC
DTSTART:20170101T000000
END:STANDARD
END:VTIMEZONE
BEGIN:VEVENT
DTSTART;TZID=UTC:20200912T100000
DTEND;TZID=UTC:20200912T160000
DTSTAMP:20260423T051231
CREATED:20200910T011248Z
LAST-MODIFIED:20200910T011912Z
UID:1660-1599904800-1599926400@libbeyhouse.org
SUMMARY:GLASS SUPER SALE
DESCRIPTION:Our annual Glass Super Sale is this weekend! Sat. & Sun\, 10-4 at 2008 Scottwood Ave. Glassware\, serving pieces\, boxed gift sets\, & more at bargain prices! Cash or credit cards accepted with purchases above $25. Masks & social distancing. See you there!
URL:http://libbeyhouse.org/event/glass-super-sale/
LOCATION:Libbey House\, 2008 Scottwood Avenue\, Toledo\, OH\, 43620\, United States
CATEGORIES:Fundraiser
ORGANIZER;CN="Libbey House Foundation":MAILTO:libbeyhouse.events@gmail.com
END:VEVENT
BEGIN:VEVENT
DTSTART;TZID=UTC:20191212T173000
DTEND;TZID=UTC:20191212T210000
DTSTAMP:20260423T051231
CREATED:20190525T021636Z
LAST-MODIFIED:20191204T035531Z
UID:451-1576171800-1576184400@libbeyhouse.org
SUMMARY:LIBBEY HOUSE HOLIDAY EXTRAVAGANZA
DESCRIPTION:You are cordially invited to attend the Libbey House Foundation Holiday Extravaganza\, a holiday fundraiser to help continue restoration of this beautiful National Historic Landmark among the glow of thousands of lights and holiday decorations. \n♦ Thursday Evening\, December 12th\, from 5:30 – 9:00 PM\n♦ Two drinks and fabulous appetizers included. Premium wines\, liquors & holiday cocktails also available at the cash bar.\n♦ Ballroom dancing with instructors from 7:30 – 9:00 PM\n♦ Tickets also available at the door.
URL:http://libbeyhouse.org/event/libbey-house-holiday-extravaganza/
LOCATION:Libbey House\, 2008 Scottwood Avenue\, Toledo\, OH\, 43620\, United States
CATEGORIES:Fundraiser,Party
ORGANIZER;CN="Libbey House Foundation":MAILTO:libbeyhouse.events@gmail.com
END:VEVENT
BEGIN:VEVENT
DTSTART;TZID=UTC:20191201T120000
DTEND;TZID=UTC:20191201T190000
DTSTAMP:20260423T051231
CREATED:20190525T021540Z
LAST-MODIFIED:20191119T040028Z
UID:445-1575201600-1575226800@libbeyhouse.org
SUMMARY:WOWE | TOURS DE NOEL TEA ROOM
DESCRIPTION:WOWE | TOURS DE NOEL TEA ROOM \nStop in and enjoy some warm tea\, wassail\, and holiday cookies in the beautiful Victorian Main Parlor of the Landmark Libbey House during Tours de Noel in the Historic Old West End.  Tickets available at the door.
URL:http://libbeyhouse.org/event/wowe-tours-de-noel/
LOCATION:Libbey House\, 2008 Scottwood Avenue\, Toledo\, OH\, 43620\, United States
CATEGORIES:Fundraiser,Tours
ORGANIZER;CN="Libbey House Foundation":MAILTO:libbeyhouse.events@gmail.com
END:VEVENT
BEGIN:VEVENT
DTSTART;TZID=UTC:20191022T180000
DTEND;TZID=UTC:20191022T200000
DTSTAMP:20260423T051231
CREATED:20190815T075409Z
LAST-MODIFIED:20191021T211858Z
UID:951-1571767200-1571774400@libbeyhouse.org
SUMMARY:LIBBEY HOUSE WINE TASTING EVENT
DESCRIPTION:SOLD OUT EVENT\nJoin us for a wine tasting on Tuesday\, October 22\, from 6:00 to 8:00 p.m.  Jim Sautter\, Level One Sommelier\, of Sautter’s Market with provide informal presentations of six fine wines (one sparkling\, five others) to enjoy with appetizers carefully paired to the wines during this casual evening of wonderful fellowship and fun.  The cost is $40.00.  Space is limited to the first 40 people.  Purchase your tickets soon to reserve your place.
URL:http://libbeyhouse.org/event/libbey-house-wine-tasting-event/
LOCATION:Libbey House\, 2008 Scottwood Avenue\, Toledo\, OH\, 43620\, United States
CATEGORIES:Fundraiser
ORGANIZER;CN="Libbey House Foundation":MAILTO:libbeyhouse.events@gmail.com
END:VEVENT
BEGIN:VEVENT
DTSTART;TZID=UTC:20190915T140000
DTEND;TZID=UTC:20190915T153000
DTSTAMP:20260423T051231
CREATED:20190705T034158Z
LAST-MODIFIED:20190915T204930Z
UID:1063-1568556000-1568561400@libbeyhouse.org
SUMMARY:ABBEY ENGLISH TEA AND EDWARDIAN FASHION SHOW
DESCRIPTION:In The Style of Downton:  A Show of Edwardian Fashion \n \n \nSOLD OUT EVENT\nJoin us for high tea and a a unique show of authentic Edwardian English fashion on Sunday\, September 15\, from 2:00 to 3:30 p.m.  The event will feature a vintage style fashion show of the designs of Kathy Dowd\, creator of authentic historical garments.  The fashion show will feature 15 models wearing reproductions of styles of the period appropriate for all of the many social occasions of the upper classes of the time.  Commentary will describe how each garment reflects the characters of “Downton Abbey.”  Tea\, finger sandwiches\, and desserts will be served.  The cost is $25.00.  Space is limited to the first 40 people.  Purchase your tickets soon to reserve your place.
URL:http://libbeyhouse.org/event/abbey-english-tea-and-edwardian-fashion-style-show/
LOCATION:Libbey House\, 2008 Scottwood Avenue\, Toledo\, OH\, 43620\, United States
CATEGORIES:Fundraiser,Lectures
ORGANIZER;CN="Libbey House Foundation":MAILTO:libbeyhouse.events@gmail.com
END:VEVENT
BEGIN:VEVENT
DTSTART;TZID=UTC:20190915T110000
DTEND;TZID=UTC:20190915T140000
DTSTAMP:20260423T051231
CREATED:20190525T021349Z
LAST-MODIFIED:20190705T035127Z
UID:436-1568545200-1568556000@libbeyhouse.org
SUMMARY:ABBEY ENGLISH TEA
DESCRIPTION:Abbey English Tea \n \n\nJoin us for high tea on Sunday\, September 15\, from 11:00 a.m. to 1:00 p.m.  Tea\, finger sandwiches\, and desserts will be served.  The cost is $15.00.  Space is limited to the first 40 people for each sitting on the hour.  Purchase your tickets soon to reserve your place.
URL:http://libbeyhouse.org/event/downton-abbey-english-tea/
LOCATION:Libbey House\, 2008 Scottwood Avenue\, Toledo\, OH\, 43620\, United States
CATEGORIES:Fundraiser
ORGANIZER;CN="Libbey House Foundation":MAILTO:libbeyhouse.events@gmail.com
END:VEVENT
BEGIN:VEVENT
DTSTART;TZID=UTC:20190601T120000
DTEND;TZID=UTC:20190602T180000
DTSTAMP:20260423T051231
CREATED:20190525T010329Z
LAST-MODIFIED:20190531T031852Z
UID:403-1559390400-1559498400@libbeyhouse.org
SUMMARY:BEER GARDEN | OWEA Old West End Festival
DESCRIPTION:Come join us for the Old West End Festival on June 1 & 2 from Noon until 6 PM each day.  Maumee Bay Brewing Co. Beers and Root Beer will be available for purchase\, offering a nice respite during the Old West End Festival\, located in the tented front-yard of the Libbey House lawn\, which will host this free family friendly event. A Glass Super Sale will be held inside on the first floor of the Libbey House. \n \nIf you are interested in volunteering to help out at the event we’d really appreciate any time you can donate. Below is a link to a signup sheet with dates and times. \nSignup Now
URL:http://libbeyhouse.org/event/old-west-end-festival/
LOCATION:Libbey House\, 2008 Scottwood Avenue\, Toledo\, OH\, 43620\, United States
CATEGORIES:Festival,Fundraiser
ORGANIZER;CN="Libbey House Foundation":MAILTO:libbeyhouse.events@gmail.com
END:VEVENT
BEGIN:VEVENT
DTSTART;TZID=UTC:20190601T110000
DTEND;TZID=UTC:20190601T180000
DTSTAMP:20260423T051231
CREATED:20190525T020800Z
LAST-MODIFIED:20190531T031859Z
UID:423-1559386800-1559412000@libbeyhouse.org
SUMMARY:GLASS SUPER SALE
DESCRIPTION:GLASS SUPER SALE \nCome join us for the Old West End Festival on June 1 & 2 from 11 AM until 6 PM each day.  A Glass Super Sale will be held inside on the first floor of the Libbey House.  Maumee Bay Brewing Co. Beers and Root Beer will be available for purchase\, offering a nice respite during the Old West End Festival\, located in the tented front-yard of the Libbey House lawn\, which will host this free family friendly event. \n \nIf you are interested in volunteering to help out at the event we’d really appreciate any time you can donate. Below is a link to a signup sheet with dates and times. \nSignup Now
URL:http://libbeyhouse.org/event/libbey-glass-super-sale/
LOCATION:Libbey House\, 2008 Scottwood Avenue\, Toledo\, OH\, 43620\, United States
CATEGORIES:Festival,Fundraiser
ORGANIZER;CN="Libbey House Foundation":MAILTO:libbeyhouse.events@gmail.com
END:VEVENT
BEGIN:VEVENT
DTSTART;TZID=UTC:20181227T173000
DTEND;TZID=UTC:20181227T210000
DTSTAMP:20260423T051231
CREATED:20190614T022345Z
LAST-MODIFIED:20190614T022903Z
UID:918-1545931800-1545944400@libbeyhouse.org
SUMMARY:LIBBEY HOUSE HOLIDAY EXTRAVAGANZA
DESCRIPTION:You are cordially invited to attend the Libbey House Foundation Holiday Extravaganza\, a fundraiser to help restore this beautiful historic home\, among thousands of twinkle lights and holiday decorations.
URL:http://libbeyhouse.org/event/libbey-house-holiday-extravaganza-2/
LOCATION:Libbey House\, 2008 Scottwood Avenue\, Toledo\, OH\, 43620\, United States
CATEGORIES:Fundraiser,Party
ORGANIZER;CN="Libbey House Foundation":MAILTO:libbeyhouse.events@gmail.com
END:VEVENT
END:VCALENDAR