BEGIN:VCALENDAR
VERSION:2.0
PRODID:-//Historic Libbey House Foundation - ECPv6.15.15//NONSGML v1.0//EN
CALSCALE:GREGORIAN
METHOD:PUBLISH
X-WR-CALNAME:Historic Libbey House Foundation
X-ORIGINAL-URL:http://libbeyhouse.org
X-WR-CALDESC:Events for Historic Libbey House Foundation
REFRESH-INTERVAL;VALUE=DURATION:PT1H
X-Robots-Tag:noindex
X-PUBLISHED-TTL:PT1H
BEGIN:VTIMEZONE
TZID:UTC
BEGIN:STANDARD
TZOFFSETFROM:+0000
TZOFFSETTO:+0000
TZNAME:UTC
DTSTART:20170101T000000
END:STANDARD
END:VTIMEZONE
BEGIN:VEVENT
DTSTART;TZID=UTC:20211014T183000
DTEND;TZID=UTC:20211014T200000
DTSTAMP:20260423T062217
CREATED:20210515T223651Z
LAST-MODIFIED:20210914T003304Z
UID:1852-1634236200-1634241600@libbeyhouse.org
SUMMARY:LIBBEY SALON FALL LECTURE SERIES - Lecture by Dan Wilkins
DESCRIPTION:Libbey House Announces Fall Lecture Series:  100 Years of Disability History in Our Community\nA Lecture Series in Honor of Tim Harrington\, Executive Director\, Ability Center of Toledo \nThe lecture series will honor the legacy of the Ability Center of Toledo\, which celebrated its 100th anniversary in 2020\, and the work of its long-time executive director\, Tim Harrington.  Harrington has announced that he will be retiring by the end of 2021. \nThe Ability Center of Toledo at 100\nLecture by Dan Wilkins\, Director of Special Projects\, The Ability Center of Toledo.  This lecture will examine the 100-year history of the Ability Center\, which began as the Toledo Society for Crippled Children in 1920. \nThe cost is FREE through a grant from the Ohio Humanities\, in recognition of the 125th anniversary of the Libbey House. Space is limited to the first 30 people. Sign up soon to reserve your place. \n\nAll lectures will begin with a reception at 6:30 and lecture at 7 p.m. in the first floor parlor of the Libbey House\, located in Toledo’s Historic Old West End at 2008 Scottwood.  Accessible parking for those requiring it is available at the rear of the house off Woodruff\, and a ramp to the front of the house is located adjacent to the parking. \n\n\nSupport has been provided by Ohio Humanities\, the National Endowment for the Humanities\, and the federal ARP Act of 2021.\n\nFor your safety and the safety of others\, we request masks be worn while in the house\,  except when eating and drinking. Hand sanitizers are available for your use.
URL:http://libbeyhouse.org/event/libbey-salon-fall-lecture-series-7/
LOCATION:Libbey House\, 2008 Scottwood Avenue\, Toledo\, OH\, 43620\, United States
CATEGORIES:Education,Lectures
ATTACH;FMTTYPE=image/jpeg:http://libbeyhouse.org/wp-content/uploads/2020/06/The-Ability-Center.jpg
END:VEVENT
BEGIN:VEVENT
DTSTART;TZID=UTC:20211007T183000
DTEND;TZID=UTC:20211007T200000
DTSTAMP:20260423T062217
CREATED:20210515T223152Z
LAST-MODIFIED:20210914T003329Z
UID:1821-1633631400-1633636800@libbeyhouse.org
SUMMARY:LIBBEY SALON FALL LECTURE SERIES - Lecture by Barbara Floyd
DESCRIPTION:Libbey House Announces Fall Lecture Series:  100 Years of Disability History in Our Community\nA Lecture Series in Honor of Tim Harrington\, Executive Director\, Ability Center of Toledo \nThe lecture series will honor the legacy of the Ability Center of Toledo\, which celebrated its 100th anniversary in 2020\, and the work of its long-time executive director\, Tim Harrington.  Harrington has announced that he will be retiring by the end of 2021. \nThe Boy Who Changed the World:  Toledo and the ‘Crippled Children’s Movement’\nLecture by Barbara Floyd\, Libbey House board member and local historian.  This lecture will look at Toledo’s early history of assisting persons with disability\, beginning with a young boy born without legs and arms in 1901. \nThe cost is FREE through a grant from the Ohio Humanities\, in recognition of the 125th anniversary of the Libbey House. Space is limited to the first 30 people. Sign up soon to reserve your place. \n\nAll lectures will begin with a reception at 6:30 and lecture at 7 p.m. in the first floor parlor of the Libbey House\, located in Toledo’s Historic Old West End at 2008 Scottwood.  Accessible parking for those requiring it is available at the rear of the house off Woodruff\, and a ramp to the front of the house is located adjacent to the parking. \n\n\nSupport has been provided by Ohio Humanities\, the National Endowment for the Humanities\, and the federal ARP Act of 2021.\n\nFor your safety and the safety of others\, we request masks be worn while in the house\,  except when eating and drinking. Hand sanitizers are available for your use.
URL:http://libbeyhouse.org/event/libbey-salon-fall-lecture-series-6/
LOCATION:Libbey House\, 2008 Scottwood Avenue\, Toledo\, OH\, 43620\, United States
CATEGORIES:Education,Lectures
ATTACH;FMTTYPE=image/jpeg:http://libbeyhouse.org/wp-content/uploads/2020/01/70-TSCC-LibbeyHome-1.jpg
ORGANIZER;CN="Libbey House Foundation":MAILTO:libbeyhouse.events@gmail.com
END:VEVENT
BEGIN:VEVENT
DTSTART;TZID=UTC:20201022T183000
DTEND;TZID=UTC:20201022T200000
DTSTAMP:20260423T062217
CREATED:20200924T001140Z
LAST-MODIFIED:20201014T112149Z
UID:1668-1603391400-1603396800@libbeyhouse.org
SUMMARY:LIBBEY SALON FALL LECTURE
DESCRIPTION:Libbey House Foundation to Host Talk on History of Toledo State Hospital \nThe Libbey House Foundation will host a talk by Toledo author Kimberly Brownlee on the history of the Toledo State Hospital on Thursday\, October 22.  It begins with a reception at 6:30 p.m.\, followed by an illustrated lecture at 7 p.m. in the parlor of the Libbey House\, 2008 Scottwood. \nBrownlee’s lecture is based on her new book\, which will be published by Arcadia Publishing in October.  The Toledo State Hospital served as a residential treatment facility for the mentally ill from 1888 until the early 1980s.  When it opened\, the hospital was revolutionary as the first asylum in the country built using the “cottage model.”  Rather than one large facility\, the Toledo State Hospital consisted of smaller buildings designed to look like homes.  Staff relied on “moral treatment” methods\, a philosophy that believed calming surrounding and nutritious food\, productive work\, and diversion would help to cure.  At one time\, the Toledo State Hospital housed more than 3000 residents. In the 1950s\, the population began to decline\, and as the buildings of the Toledo State Hospital emptied\, they were demolished\, and all were gone by 1981. \n\nSocial distancing and mask wearing (except when eating and drinking) will be observed and and sanitizer will be available. \nDue to social distancing\, tickets are limited to the first 25 registrants.  The cost is $10\, and can be purchased through the Libbey House website: www.libbeyhouse.org  The Libbey House offers accessible parking in the lot behind the house off Woodruff\, adjacent to an accessible ramp.  Copies of Brownlee’s book will be available for sale following her talk.
URL:http://libbeyhouse.org/event/libbey-salon-fall-lecture/
LOCATION:Libbey House\, 2008 Scottwood Avenue\, Toledo\, OH\, 43620\, United States
CATEGORIES:Education,Lectures
ORGANIZER;CN="Libbey House Foundation":MAILTO:libbeyhouse.events@gmail.com
END:VEVENT
BEGIN:VEVENT
DTSTART;TZID=UTC:20191102T093000
DTEND;TZID=UTC:20191102T153000
DTSTAMP:20260423T062217
CREATED:20190525T021445Z
LAST-MODIFIED:20191101T172341Z
UID:441-1572687000-1572708600@libbeyhouse.org
SUMMARY:STUDIO GLASS MOVEMENT SYMPOSIUM
DESCRIPTION:STUDIO GLASS MOVEMENT SYMPOSIUM \n \n\nThe American Studio Glass Movement: Toledo’s Creative Legacy\nThis day-long symposium on Saturday\, November 2\, will provide a unique opportunity to learn about the role Toledo played in the creation of the American Studio Glass Movement and the continuing legacy of that movement in the city. Centered on the recent master’s thesis by Bowling Green State University graduate Kaysie Harrington titled “The American Studio Glass Movement: A Regional Study of Its Birth in Northwest Ohio” (December 2018)\, the symposium will include comments by scholars of the history of Toledo glass and the studio glass movement as well as by contemporary artists of the studio glass movement and collectors of their works. The event is co-sponsored by the Libbey House Foundation\, the BGSU College of Arts and Sciences and its Department of History\, and the BGSU School for the Arts. \nMorning sessions will focus on the history of the studio glass movement\, including the history of industrial glass production in Toledo that influenced the creation of the studio glass movement. The afternoon program will focus on the legacy of the studio glass movement\, both in Toledo and nationally. \nAfternoon sessions will feature moderated panel discussions by studio glass artists and early collectors. The symposium will conclude with audience discussion led by Marc Folks\, executive director of the Arts Commission of Greater Toledo\, on how the city can continue to build on the legacy of the movement to spur creativity and economic development throughout the city. \nSpeakers include: Barbara Floyd\, author of The Glass City: Toledo and the Industry That Built It; Kaysie Harrington; Diane Wright\, curator of glass at the Toledo Museum of Art; glass artists Jack Schmidt\, Baker O’Brien\, Shawn Messenger\, and Adam Goldberg; and glass collectors Milt Hakel\, Gail Zimmerman\, and Jim Moore. \nThe cost of the day-long symposium\, including morning refreshments\, lunch\, and a wine-and-cheese reception\, is $50\, or $40 for students with valid school ID. Due to facility size\, registration is limited to the first 50 persons. All proceeds benefit the Libbey House Foundation in its efforts to preserve the home of Edward Drummond Libbey\, the founder of the glass industry in Toledo. \n Register early to reserve your space.
URL:http://libbeyhouse.org/event/studio-glass-movement-symposium/
LOCATION:Libbey House\, 2008 Scottwood Avenue\, Toledo\, OH\, 43620\, United States
CATEGORIES:Lectures
ORGANIZER;CN="Libbey House Foundation":MAILTO:libbeyhouse.events@gmail.com
END:VEVENT
BEGIN:VEVENT
DTSTART;TZID=UTC:20190915T140000
DTEND;TZID=UTC:20190915T153000
DTSTAMP:20260423T062217
CREATED:20190705T034158Z
LAST-MODIFIED:20190915T204930Z
UID:1063-1568556000-1568561400@libbeyhouse.org
SUMMARY:ABBEY ENGLISH TEA AND EDWARDIAN FASHION SHOW
DESCRIPTION:In The Style of Downton:  A Show of Edwardian Fashion \n \n \nSOLD OUT EVENT\nJoin us for high tea and a a unique show of authentic Edwardian English fashion on Sunday\, September 15\, from 2:00 to 3:30 p.m.  The event will feature a vintage style fashion show of the designs of Kathy Dowd\, creator of authentic historical garments.  The fashion show will feature 15 models wearing reproductions of styles of the period appropriate for all of the many social occasions of the upper classes of the time.  Commentary will describe how each garment reflects the characters of “Downton Abbey.”  Tea\, finger sandwiches\, and desserts will be served.  The cost is $25.00.  Space is limited to the first 40 people.  Purchase your tickets soon to reserve your place.
URL:http://libbeyhouse.org/event/abbey-english-tea-and-edwardian-fashion-style-show/
LOCATION:Libbey House\, 2008 Scottwood Avenue\, Toledo\, OH\, 43620\, United States
CATEGORIES:Fundraiser,Lectures
ORGANIZER;CN="Libbey House Foundation":MAILTO:libbeyhouse.events@gmail.com
END:VEVENT
BEGIN:VEVENT
DTSTART;TZID=UTC:20190913T183000
DTEND;TZID=UTC:20190913T200000
DTSTAMP:20260423T062217
CREATED:20190525T021131Z
LAST-MODIFIED:20190705T040653Z
UID:429-1568399400-1568404800@libbeyhouse.org
SUMMARY:ABBEY COCKTAIL PARTY AND LECTURE
DESCRIPTION:Abbey Cocktail Party and Lecture \n \n\nCome join us at the Libbey House as we celebrate “The Abbey Weekend” in British style.  The weekend kicks off with a fun lecture Friday night. Grab a glass of wine and appetizers and hear what was happening\, at our house and the house across the pond\, at the turn of the century.  The cost is $10.00.  Space is limited to the first 50 people.  Purchase your tickets soon to reserve your place.
URL:http://libbeyhouse.org/event/downton-abbey-movie-coctail-party-and-lecture/
LOCATION:Libbey House\, 2008 Scottwood Avenue\, Toledo\, OH\, 43620\, United States
CATEGORIES:Lectures,Party
ORGANIZER;CN="Libbey House Foundation":MAILTO:libbeyhouse.events@gmail.com
END:VEVENT
BEGIN:VEVENT
DTSTART;TZID=UTC:20190509T183000
DTEND;TZID=UTC:20190509T200000
DTSTAMP:20260423T062217
CREATED:20190525T020513Z
LAST-MODIFIED:20190525T023228Z
UID:418-1557426600-1557432000@libbeyhouse.org
SUMMARY:LIBBEY SALON SPRING LECTURE SERIES
DESCRIPTION:Why China? Libbey in China
URL:http://libbeyhouse.org/event/libbey-salon-spring-lecture-series-3/
LOCATION:Libbey House\, 2008 Scottwood Avenue\, Toledo\, OH\, 43620\, United States
CATEGORIES:Lectures
ORGANIZER;CN="Libbey House Foundation":MAILTO:libbeyhouse.events@gmail.com
END:VEVENT
BEGIN:VEVENT
DTSTART;TZID=UTC:20190502T183000
DTEND;TZID=UTC:20190502T200000
DTSTAMP:20260423T062217
CREATED:20190525T020401Z
LAST-MODIFIED:20190525T023252Z
UID:415-1556821800-1556827200@libbeyhouse.org
SUMMARY:LIBBEY SALON SPRING LECTURE SERIES
DESCRIPTION:TOLEDO’S BIG 3 | Toledo’s Downtown Department Stores
URL:http://libbeyhouse.org/event/libbey-salon-spring-lecture-series-2/
LOCATION:Libbey House\, 2008 Scottwood Avenue\, Toledo\, OH\, 43620\, United States
CATEGORIES:Lectures
ORGANIZER;CN="Libbey House Foundation":MAILTO:libbeyhouse.events@gmail.com
END:VEVENT
BEGIN:VEVENT
DTSTART;TZID=UTC:20190425T183000
DTEND;TZID=UTC:20190425T200000
DTSTAMP:20260423T062217
CREATED:20190525T020119Z
LAST-MODIFIED:20190525T023318Z
UID:411-1556217000-1556222400@libbeyhouse.org
SUMMARY:LIBBEY SALON SPRING LECTURE SERIES
DESCRIPTION:HIDDEN HISTORY OF TOLEDO | Author Lou Hebert \nhttp://somelink
URL:http://libbeyhouse.org/event/libbey-salon-spring-lecture-series/
LOCATION:Libbey House\, 2008 Scottwood Avenue\, Toledo\, OH\, 43620\, United States
CATEGORIES:Lectures
ORGANIZER;CN="Libbey House Foundation":MAILTO:libbeyhouse.events@gmail.com
END:VEVENT
BEGIN:VEVENT
DTSTART;TZID=UTC:20181115T180000
DTEND;TZID=UTC:20181115T193000
DTSTAMP:20260423T062217
CREATED:20190614T021423Z
LAST-MODIFIED:20190614T022745Z
UID:914-1542304800-1542310200@libbeyhouse.org
SUMMARY:LIBBEY SALON FALL LECTURE SERIES
DESCRIPTION:Robert Zollweg\, Libbey Glass designer\, will talk about the artistic development of the Libbey Glass’s product line over time
URL:http://libbeyhouse.org/event/libbey-salon-fall-lecture-series-5/
LOCATION:Libbey House\, 2008 Scottwood Avenue\, Toledo\, OH\, 43620\, United States
CATEGORIES:Lectures
ORGANIZER;CN="Libbey House Foundation":MAILTO:libbeyhouse.events@gmail.com
END:VEVENT
BEGIN:VEVENT
DTSTART;TZID=UTC:20181108T180000
DTEND;TZID=UTC:20181108T193000
DTSTAMP:20260423T062217
CREATED:20190614T021231Z
LAST-MODIFIED:20190614T022724Z
UID:910-1541700000-1541705400@libbeyhouse.org
SUMMARY:LIBBEY SALON FALL LECTURE SERIES
DESCRIPTION:Tina Moffat and architect Steven Shrake\, Libbey House Foundation board members\, will talk about the Libbeys’ role in shaping the unique community of Ojai\, California
URL:http://libbeyhouse.org/event/libbey-salon-fall-lecture-series-4/
LOCATION:Libbey House\, 2008 Scottwood Avenue\, Toledo\, OH\, 43620\, United States
CATEGORIES:Lectures
ORGANIZER;CN="Libbey House Foundation":MAILTO:libbeyhouse.events@gmail.com
END:VEVENT
BEGIN:VEVENT
DTSTART;TZID=UTC:20181018T180000
DTEND;TZID=UTC:20181018T193000
DTSTAMP:20260423T062217
CREATED:20190614T021035Z
LAST-MODIFIED:20190614T022541Z
UID:906-1539885600-1539891000@libbeyhouse.org
SUMMARY:LIBBEY SALON FALL LECTURE SERIES
DESCRIPTION:Ted Ligibel\, local historic preservation specialist\, will talk on the establishment of the Old West End Historic District\, with an emphasis on the importance of the Libbey House to that area
URL:http://libbeyhouse.org/event/libbey-salon-fall-lecture-series-3/
LOCATION:Libbey House\, 2008 Scottwood Avenue\, Toledo\, OH\, 43620\, United States
CATEGORIES:Lectures
ORGANIZER;CN="Libbey House Foundation":MAILTO:libbeyhouse.events@gmail.com
END:VEVENT
BEGIN:VEVENT
DTSTART;TZID=UTC:20181004T180000
DTEND;TZID=UTC:20181004T193000
DTSTAMP:20260423T062217
CREATED:20190614T020854Z
LAST-MODIFIED:20190614T022640Z
UID:902-1538676000-1538681400@libbeyhouse.org
SUMMARY:LIBBEY SALON FALL LECTURE SERIES
DESCRIPTION:Diane Wright\, curator of glass at the Toledo Museum of Art\, will talk about the museum’s glass collection as a legacy that Edward Drummond Libbey left to Toledo
URL:http://libbeyhouse.org/event/libbey-salon-fall-lecture-series-2/
LOCATION:Libbey House\, 2008 Scottwood Avenue\, Toledo\, OH\, 43620\, United States
CATEGORIES:Lectures
ORGANIZER;CN="Libbey House Foundation":MAILTO:libbeyhouse.events@gmail.com
END:VEVENT
BEGIN:VEVENT
DTSTART;TZID=UTC:20180920T180000
DTEND;TZID=UTC:20180920T193000
DTSTAMP:20260423T062217
CREATED:20190614T020649Z
LAST-MODIFIED:20190614T020719Z
UID:898-1537466400-1537471800@libbeyhouse.org
SUMMARY:LIBBEY SALON FALL LECTURE SERIES
DESCRIPTION:Julie McMaster\, archivist for the Toledo Museum of Art\, will talk on the private lives of Mr. and Mrs. Libbey and the impact they made on the community outside of the founding of the Toledo Museum of Art
URL:http://libbeyhouse.org/event/libbey-fall-lecture-series/
LOCATION:Libbey House\, 2008 Scottwood Avenue\, Toledo\, OH\, 43620\, United States
CATEGORIES:Lectures
ORGANIZER;CN="Libbey House Foundation":MAILTO:libbeyhouse.events@gmail.com
END:VEVENT
BEGIN:VEVENT
DTSTART;TZID=UTC:20180906T180000
DTEND;TZID=UTC:20180906T193000
DTSTAMP:20260423T062217
CREATED:20190614T020406Z
LAST-MODIFIED:20190614T020406Z
UID:895-1536256800-1536262200@libbeyhouse.org
SUMMARY:LIBBEY SALON FALL LECTURE SERIES
DESCRIPTION:Barbara Floyd\, local historian and author of The Glass City: Toledo and the Industry That Built It (University of Michigan Press\, 2015) will talk about the development of the glass industry in Toledo\, with an emphasis on technological innovations of the companies that changed the world
URL:http://libbeyhouse.org/event/libbey-salon-fall-lecture-series/
LOCATION:Libbey House\, 2008 Scottwood Avenue\, Toledo\, OH\, 43620\, United States
CATEGORIES:Lectures
ORGANIZER;CN="Libbey House Foundation":MAILTO:libbeyhouse.events@gmail.com
END:VEVENT
END:VCALENDAR