BEGIN:VCALENDAR
VERSION:2.0
PRODID:-//Historic Libbey House Foundation - ECPv6.15.15//NONSGML v1.0//EN
CALSCALE:GREGORIAN
METHOD:PUBLISH
X-ORIGINAL-URL:http://libbeyhouse.org
X-WR-CALDESC:Events for Historic Libbey House Foundation
REFRESH-INTERVAL;VALUE=DURATION:PT1H
X-Robots-Tag:noindex
X-PUBLISHED-TTL:PT1H
BEGIN:VTIMEZONE
TZID:UTC
BEGIN:STANDARD
TZOFFSETFROM:+0000
TZOFFSETTO:+0000
TZNAME:UTC
DTSTART:20250101T000000
END:STANDARD
END:VTIMEZONE
BEGIN:VEVENT
DTSTART;TZID=UTC:20260321T183000
DTEND;TZID=UTC:20260321T210000
DTSTAMP:20260422T223425
CREATED:20251209T024344Z
LAST-MODIFIED:20260212T015110Z
UID:3241-1774117800-1774126800@libbeyhouse.org
SUMMARY:PROHIBITION MURDER MYSTERY | March 21 | SOLD OUT
DESCRIPTION:Saturday\, March 21st \nIt’s Sleuthing Season at the Libbey House! Help us solve a puzzling “Whodunit” at this national historic landmark with a Prohibition theme. Eat\, drink\, and crack the caper of “Sinners at the Speakeasy” at the Libbey House on Saturday\, March 21st at 6:30pm in the evening! \nImmerse yourself in a real-life game of Clue and travel from room to room with a team of fellow detectives in your quest to gather evidence and solve this baffling historic murder mystery. \nThe Scene: \nThe Libbey House Foundation presents A Murder Mystery Evening.  Detectives from all over the globe gather at the Libbey Mansion to solve the prohibition murder mystery in Toledo\, OH.  The case was never solved\, the clues and leads seemed to vanish in the wind. \nYou’ve been cordially invited to the Libbey Mansion to review the clues we’ve uncovered and help us solve this mystery. \nCome dressed in Roaring 1920’s fashion or Modern 2020’s attire for a night of mystery\, food\, and fun!  There will be a prize for the best dressed in character. \nThe Details: \n     6:30pm* – 7:30pm – Drinks\, Appetizers\, & Mingling \n     7:30pm – 8:30pm – The Search for an Answer \n     8:30pm – 9:00pm – Dessert & Mystery Solved \n*Doors open at 6:15pm \nIf you are purchasing tickets separately for other people in your party\, please indicate that on your purchase to ensure your party is seated together. \nTicket Price: $35 per person through March 18th. Unfortunately we will not be able to take additional reservations after March 18th. \nThis event is for adults 21+ \nTicket price includes an assortment of drinks\, appetizers. and plenty of mystery! \nSOLD OUT \nAll proceeds go to preserve and maintain and support programs for the Libbey House.  Space is limited so purchase your tickets soon to reserve your place.  NO REFUNDS. Limited seating – tickets will sell out quickly! \nYour reservation will be documented and there is no “ticket” sent to you. Your confirmation email will serve as your receipt if there are any issues at check in. \nThe Libbey House offers accessible parking in the lot behind the house off Woodruff\, adjacent to an accessible ramp. \nAll ticket sales are NON-REFUNDABLE. If the event is rescheduled\, all ticket purchases will be honored for the rescheduled event date. If the event is canceled\, all ticket purchases will be refunded in full.
URL:http://libbeyhouse.org/event/prohibition-murder-mystery-march-21/
LOCATION:Libbey House\, 2008 Scottwood Avenue\, Toledo\, OH\, 43620\, United States
CATEGORIES:Fundraiser,Libbey,Party
ATTACH;FMTTYPE=image/jpeg:http://libbeyhouse.org/wp-content/uploads/2023/02/murder-mystery.jpg
ORGANIZER;CN="Libbey House Foundation":MAILTO:libbeyhouse.events@gmail.com
END:VEVENT
END:VCALENDAR