BEGIN:VCALENDAR
VERSION:2.0
PRODID:-//Historic Libbey House Foundation - ECPv6.15.15//NONSGML v1.0//EN
CALSCALE:GREGORIAN
METHOD:PUBLISH
X-WR-CALNAME:Historic Libbey House Foundation
X-ORIGINAL-URL:http://libbeyhouse.org
X-WR-CALDESC:Events for Historic Libbey House Foundation
REFRESH-INTERVAL;VALUE=DURATION:PT1H
X-Robots-Tag:noindex
X-PUBLISHED-TTL:PT1H
BEGIN:VTIMEZONE
TZID:UTC
BEGIN:STANDARD
TZOFFSETFROM:+0000
TZOFFSETTO:+0000
TZNAME:UTC
DTSTART:20180101T000000
END:STANDARD
END:VTIMEZONE
BEGIN:VEVENT
DTSTART;TZID=UTC:20190914T190000
DTEND;TZID=UTC:20190914T230000
DTSTAMP:20260422T104547
CREATED:20190525T021247Z
LAST-MODIFIED:20190705T040714Z
UID:432-1568487600-1568502000@libbeyhouse.org
SUMMARY:ABBEY COSTUME BALL
DESCRIPTION:Abbey Costume Ball \n \n\nYou are cordially invited to attend a Victorian Ball on Saturday\, September 14\, from 6:00 to 9:00 p.m.  Bring out the flapper styles and fedoras for the Costume Ball and we’ll party like it’s 1927!  The cost is $25.00.  Space is limited to the first 100 people.  Purchase your tickets soon to reserve your place.
URL:http://libbeyhouse.org/event/downton-abbey-costume-ball/
LOCATION:Libbey House\, 2008 Scottwood Avenue\, Toledo\, OH\, 43620\, United States
CATEGORIES:Party
ORGANIZER;CN="Libbey House Foundation":MAILTO:libbeyhouse.events@gmail.com
END:VEVENT
END:VCALENDAR