BEGIN:VCALENDAR
VERSION:2.0
PRODID:-//Historic Libbey House Foundation - ECPv6.15.15//NONSGML v1.0//EN
CALSCALE:GREGORIAN
METHOD:PUBLISH
X-WR-CALNAME:Historic Libbey House Foundation
X-ORIGINAL-URL:http://libbeyhouse.org
X-WR-CALDESC:Events for Historic Libbey House Foundation
REFRESH-INTERVAL;VALUE=DURATION:PT1H
X-Robots-Tag:noindex
X-PUBLISHED-TTL:PT1H
BEGIN:VTIMEZONE
TZID:UTC
BEGIN:STANDARD
TZOFFSETFROM:+0000
TZOFFSETTO:+0000
TZNAME:UTC
DTSTART:20190101T000000
END:STANDARD
END:VTIMEZONE
BEGIN:VTIMEZONE
TZID:America/Detroit
BEGIN:DAYLIGHT
TZOFFSETFROM:-0500
TZOFFSETTO:-0400
TZNAME:EDT
DTSTART:20200308T070000
END:DAYLIGHT
BEGIN:STANDARD
TZOFFSETFROM:-0400
TZOFFSETTO:-0500
TZNAME:EST
DTSTART:20201101T060000
END:STANDARD
BEGIN:DAYLIGHT
TZOFFSETFROM:-0500
TZOFFSETTO:-0400
TZNAME:EDT
DTSTART:20210314T070000
END:DAYLIGHT
BEGIN:STANDARD
TZOFFSETFROM:-0400
TZOFFSETTO:-0500
TZNAME:EST
DTSTART:20211107T060000
END:STANDARD
BEGIN:DAYLIGHT
TZOFFSETFROM:-0500
TZOFFSETTO:-0400
TZNAME:EDT
DTSTART:20220313T070000
END:DAYLIGHT
BEGIN:STANDARD
TZOFFSETFROM:-0400
TZOFFSETTO:-0500
TZNAME:EST
DTSTART:20221106T060000
END:STANDARD
BEGIN:DAYLIGHT
TZOFFSETFROM:-0500
TZOFFSETTO:-0400
TZNAME:EDT
DTSTART:20230312T070000
END:DAYLIGHT
BEGIN:STANDARD
TZOFFSETFROM:-0400
TZOFFSETTO:-0500
TZNAME:EST
DTSTART:20231105T060000
END:STANDARD
END:VTIMEZONE
BEGIN:VEVENT
DTSTART;TZID=UTC:20221204T110000
DTEND;TZID=UTC:20221204T150000
DTSTAMP:20260422T152112
CREATED:20221022T004004Z
LAST-MODIFIED:20221201T074032Z
UID:2426-1670151600-1670166000@libbeyhouse.org
SUMMARY:WINTERFEST: CHRISTMAS HOUSE TOURS WITH HIGH TEA [SOLD OUT]
DESCRIPTION:The Libbey House Foundation and the Women of the Old West End Present  \nWINTERFEST: Christmas House Tours with High Tea \n \nTour the Libbey House exploring the magic of Christmas on all three floors and enjoy a delicious Christmas High Tea for $40.00 \n \nTour the Libbey House & the Boshart-Guyton House\, exploring the magic of Christmas in these beautiful historic mansions and enjoy a delicious Christmas High Tea for $50.00 \n  \n  \nSunday December 4th \nThree 90-Minute Seatings available: 11:00AM\, 1:00PM\, and 3:00 PM \nDelicious Christmas Teas\, Tea Sandwiches & Holiday Desserts \nTickets are available through November 30th. Unfortunately we will not be able to take additional reservations after November 30th. \n\nReservations are required; Space is limited so purchase your tickets soon to reserve your place. The Libbey House offers accessible parking in the lot behind the house off Woodruff\, adjacent to an accessible ramp. \nAll proceeds go to preserve and maintain the Libbey House and support programs for the Women of the Old West End. The event is the perfect way to celebrate the holiday season. \nSocial distancing and mask wearing (except when eating and drinking) is encouraged and and sanitizer will be available. \nDue to a limited Menu\, we are sorry that we cannot accommodate special meal requests \nAllergy Statement: Because of the handcrafted nature of our Menu\, items may contain or come into contact with Milk\, Eggs\, Wheat/Gluten\, Fish\, Shellfish\, Soybeans\, Sesame\, Peanuts and Tree Nuts.
URL:http://libbeyhouse.org/event/winterfest-christmas-house-tours-with-high-tea-1100-100-300/
LOCATION:Libbey House\, 2008 Scottwood Avenue\, Toledo\, OH\, 43620\, United States
CATEGORIES:Fundraiser,Holiday,Libbey,Tea,Tours
ATTACH;FMTTYPE=image/jpeg:http://libbeyhouse.org/wp-content/uploads/2021/11/Winter-Fest-banner-1-e1666219766644.jpg
ORGANIZER;CN="Libbey House Foundation":MAILTO:libbeyhouse.events@gmail.com
END:VEVENT
BEGIN:VEVENT
DTSTART;TZID=UTC:20221203T110000
DTEND;TZID=UTC:20221203T170000
DTSTAMP:20260422T152112
CREATED:20221019T223508Z
LAST-MODIFIED:20230122T234834Z
UID:2424-1670065200-1670086800@libbeyhouse.org
SUMMARY:WINTERFEST: LIBBEY HOUSE CHRISTMAS TOUR & TEA ROOM
DESCRIPTION:The Libbey House Foundation Presents \nWINTERFEST: Libbey House Christmas Tour & Tea Room \n \nSaturday\, December 3rd \nLibbey House Christmas Tour and Tea Room between 11:00 AM – 5:00 PM \nTour the Libbey House exploring the magic of Christmas on all three floors for $5.00 at the door. \n \nStop by our Tea Room for tea and cookies for $5.00 at the door (no reservations required)
URL:http://libbeyhouse.org/event/winterfest-libbey-house-christmas-tour-tea-room/
LOCATION:Libbey House\, 2008 Scottwood Avenue\, Toledo\, OH\, 43620\, United States
CATEGORIES:Fundraiser,Holiday,Libbey,Tea,Tours
ATTACH;FMTTYPE=image/jpeg:http://libbeyhouse.org/wp-content/uploads/2021/11/Winter-Fest-banner-1-e1666219766644.jpg
ORGANIZER;CN="Libbey House Foundation":MAILTO:libbeyhouse.events@gmail.com
END:VEVENT
BEGIN:VEVENT
DTSTART;TZID=UTC:20220925T110000
DTEND;TZID=UTC:20220925T150000
DTSTAMP:20260422T152112
CREATED:20220811T013022Z
LAST-MODIFIED:20220811T024204Z
UID:2375-1664103600-1664118000@libbeyhouse.org
SUMMARY:HARVEST HIGH TEA @ 11:00\, 1:00\, & 3:00
DESCRIPTION:Harvest High Tea \nSunday\, September 25th @ $40.00 per person \nThe Libbey House Foundation and Women of the Old West End present a Harvest High Tea \n \nSunday\, September 25th  \nThree 90-Minute Seatings available: 11:00AM\, 1:00PM\, and 3:00 PM \nEnjoy your choice of delicious tea from an assortment of teas\, tea sandwiches\, and scrumptious desserts. \nDue to a limited Menu\, we are sorry that we cannot accommodate special meal requests. \nAllergy Statement: Because of the handcrafted nature of our Menu\, items may contain or come into contact with MILK\, EGGS\, WHEAT/GLUTEN\, FISH\, SHELLFISH\, SOYBEANS\, SESAME\, PEANUTS and TREE NUTS. \nTickets are $40.00 per person through September 21st. Unfortunately we will not be able to take additional reservations after September 21st. \n\nAll proceeds go to preserve and maintain the Libbey House and support programs for the Women of the Old West End. The event is the perfect way to celebrate the fall season. Space is limited so purchase your tickets soon to reserve your place. \nSocial distancing and mask wearing (except when eating and drinking) is encouraged and and sanitizer will be available. \nReservations are required; due to social distancing\, seating is limited.  The Libbey House offers accessible parking in the lot behind the house off Woodruff\, adjacent to an accessible ramp.
URL:http://libbeyhouse.org/event/harvest-high-tea-1100-100-300/
LOCATION:Libbey House\, 2008 Scottwood Avenue\, Toledo\, OH\, 43620\, United States
CATEGORIES:Fundraiser,Tea,Tours
ATTACH;FMTTYPE=image/jpeg:http://libbeyhouse.org/wp-content/uploads/2021/07/Harvest-high-Tea-8.5-x-11-e1625192908873.jpg
ORGANIZER;CN="Libbey House Foundation":MAILTO:libbeyhouse.events@gmail.com
END:VEVENT
BEGIN:VEVENT
DTSTART;TZID=America/Detroit:20220515T110000
DTEND;TZID=America/Detroit:20220515T150000
DTSTAMP:20260422T152112
CREATED:20220224T025856Z
LAST-MODIFIED:20220327T021124Z
UID:2267-1652612400-1652626800@libbeyhouse.org
SUMMARY:MOTHER'S DAY LUNCHEON TEA @ 11:00\, 1:00\, & 3:00
DESCRIPTION:“Celebrate Mom” Mother’s Day Luncheon Tea \nSunday\, May 15th @ $40.00 per person \nThe Libbey House Foundation and Women of the Old West End present a Mother’s Day Luncheon Tea \n \nSunday May 15th  \nThree 90-Minute Seatings available: 11:00AM\, 1:00PM\, and 3:00 PM \nEnjoy your choice of delicious tea from an assortment of teas\, tea sandwiches\, and scrumptious desserts. \nDue to a limited Menu\, we are sorry that we cannot accommodate special meal requests. \nAllergy Statement: Because of the handcrafted nature of our Menu\, items may contain or come into contact with MILK\, EGGS\, WHEAT/GLUTEN\, FISH\, SHELLFISH\, SOYBEANS\, SESAME\, PEANUTS and TREE NUTS. \nTickets are $40.00 per person through May 11th. Unfortunately we will not be able to take additional reservations after May 11th. \n\nAll proceeds go to preserve and maintain the Libbey House and support programs for the Women of the Old West End. The event is the perfect way to celebrate Mother’s Day. Space is limited so purchase your tickets soon to reserve your place. \nSocial distancing and mask wearing (except when eating and drinking) will be observed and and sanitizer will be available. \nReservations are required; due to social distancing\, seating is limited.  The Libbey House offers accessible parking in the lot behind the house off Woodruff\, adjacent to an accessible ramp.
URL:http://libbeyhouse.org/event/mothers-day-luncheon-tea-1100-100-300/
LOCATION:Libbey House\, 2008 Scottwood Avenue\, Toledo\, OH\, 43620\, United States
CATEGORIES:Fundraiser,Tea,Tours
ATTACH;FMTTYPE=image/jpeg:http://libbeyhouse.org/wp-content/uploads/2021/02/Mothers-Day-Image.jpg
ORGANIZER;CN="Libbey House Foundation":MAILTO:libbeyhouse.events@gmail.com
END:VEVENT
BEGIN:VEVENT
DTSTART;TZID=UTC:20211205T110000
DTEND;TZID=UTC:20211205T170000
DTSTAMP:20260422T152112
CREATED:20210221T175123Z
LAST-MODIFIED:20211130T175803Z
UID:1775-1638702000-1638723600@libbeyhouse.org
SUMMARY:WINTERFEST: CHRISTMAS HOUSE TOURS WITH HIGH TEA @ 11:00\, 1:00\, 3:00 & 5:00
DESCRIPTION:The Libbey House Foundation and the Women of the Old West End Present  \nWINTERFEST: Christmas House Tours with High Tea \n \nTour the Libbey House exploring the magic of Christmas on all three floors and enjoy a delicious Christmas High Tea for $40.00 \n \nTour the Libbey House & the Lamson House at 2056 Scottwood\, exploring the magic of Christmas in these beautiful historic mansions and enjoy a delicious Christmas High Tea for $50.00 \n \nSunday December 5th \nFour 90-Minute Seatings available: 11:00AM\, 1:00PM\, 3:00 PM and 5:00 PM  \nDelicious Christmas Teas\, Tea Sandwiches & Holiday Desserts \nAllergy Statement: Because of the handcrafted nature of our Menu\, items may contain or come into contact with MILK\, EGGS\, WHEAT/GLUTEN\, FISH\, SHELLFISH\, SOYBEANS\, SESAME\, PEANUTS and TREE NUTS. \n\nSocial distancing and mask wearing (except when eating and drinking) will be observed and and sanitizer will be available. \nReservations are required; due to social distancing\, seating is limited.  The Libbey House offers accessible parking in the lot behind the house off Woodruff\, adjacent to an accessible ramp.
URL:http://libbeyhouse.org/event/a-dickens-christmas-tea-1100-100-300/
LOCATION:Libbey House\, 2008 Scottwood Avenue\, Toledo\, OH\, 43620\, United States
CATEGORIES:Fundraiser,Tea,Tours
ATTACH;FMTTYPE=image/jpeg:http://libbeyhouse.org/wp-content/uploads/2021/10/xmas_tea.jpg
ORGANIZER;CN="Libbey House Foundation":MAILTO:libbeyhouse.events@gmail.com
END:VEVENT
BEGIN:VEVENT
DTSTART;TZID=UTC:20211204T110000
DTEND;TZID=UTC:20211204T170000
DTSTAMP:20260422T152112
CREATED:20211018T204624Z
LAST-MODIFIED:20211130T175657Z
UID:2195-1638615600-1638637200@libbeyhouse.org
SUMMARY:WINTERFEST: LIBBEY HOUSE TEA WITH CHRISTMAS HOUSE TOUR & TASTING ROOM
DESCRIPTION:The Libbey House Foundation and the Women of the Old West End Present  \nWINTERFEST: Libbey House Christmas Tour\, Tea Room\, & Tasting Room \n \nSaturday\, December 4th \nLibbey House Christmas Tour and Tea Room between 11:00 AM – 5:00 PM \nTour the Libbey House exploring the magic of Christmas on all three floors for $5.00 at the door. \n \nStop by our Tea Room for tea and cookies for $5.00 at the door (no reservations required) \nAllergy Statement: Because of the handcrafted nature of our Menu\, items may contain or come into contact with MILK\, EGGS\, WHEAT/GLUTEN\, FISH\, SHELLFISH\, SOYBEANS\, SESAME\, PEANUTS and TREE NUTS. \nWine Tasting at 2:00 PM   |   Wine Tasting at 4:00 PM \nTickets are $30.00 per person\, per tasting \nTasting Room is located on the second floor of the Libbey House by reservation only. \n\nSocial distancing and mask wearing (except when eating and drinking) will be observed and and sanitizer will be available. \nReservations are required for the Tasting Room; due to social distancing\, seating is limited.  The Libbey House offers accessible parking in the lot behind the house off Woodruff\, adjacent to an accessible ramp.
URL:http://libbeyhouse.org/event/winterfest-libbey-house-christmas-house-tour-tasting-room/
LOCATION:Libbey House\, 2008 Scottwood Avenue\, Toledo\, OH\, 43620\, United States
CATEGORIES:Fundraiser,Tea,Tours
ATTACH;FMTTYPE=image/jpeg:http://libbeyhouse.org/wp-content/uploads/2021/10/xmas_tea.jpg
ORGANIZER;CN="Libbey House Foundation":MAILTO:libbeyhouse.events@gmail.com
END:VEVENT
BEGIN:VEVENT
DTSTART;TZID=UTC:20210926T110000
DTEND;TZID=UTC:20210926T150000
DTSTAMP:20260422T152112
CREATED:20210708T105744Z
LAST-MODIFIED:20210912T143443Z
UID:1899-1632654000-1632668400@libbeyhouse.org
SUMMARY:HARVEST HIGH TEA
DESCRIPTION:Harvest High Tea at the Libbey House \nSunday\, September 26th @ $35.00 per person \nSponsored by The Women of the Old West End and The Libbey House Foundation \n \nEnjoy delicious assorted specialty teas\, tea sandwiches\, and scrumptious assorted desserts. \nSunday\, September 26th seatings available at 11:00AM\, 1:00PM\, and 3:00PM \nLimited private rooms on second floor available for small groups of 4 to 6 people upon request.  Main dining Room can be requested for parties of 6 to 10 people. \nTickets are $30.00 per person through September 10th. \n$35.00 per person September 11th to September 25th \n\nAll proceeds go to preserve and maintain the Libbey House and support programs for the Women of the Old West End. The event is the perfect way to celebrate the fall season. Space is limited so purchase your tickets soon to reserve your place. \nReservations are required with limited seating.  The Libbey House offers accessible parking in the lot behind the house off Woodruff\, adjacent to an accessible ramp.
URL:http://libbeyhouse.org/event/harvest-high-tea-2/
LOCATION:Libbey House\, 2008 Scottwood Avenue\, Toledo\, OH\, 43620\, United States
CATEGORIES:Fundraiser,Tea,Tours
ATTACH;FMTTYPE=image/jpeg:http://libbeyhouse.org/wp-content/uploads/2021/07/Harvest-high-Tea-8.5-x-11-e1625192908873.jpg
ORGANIZER;CN="Libbey House Foundation":MAILTO:libbeyhouse.events@gmail.com
END:VEVENT
BEGIN:VEVENT
DTSTART;TZID=UTC:20210925T110000
DTEND;TZID=UTC:20210925T133000
DTSTAMP:20260422T152112
CREATED:20210708T105700Z
LAST-MODIFIED:20210912T143521Z
UID:1895-1632567600-1632576600@libbeyhouse.org
SUMMARY:HARVEST HIGH TEA
DESCRIPTION:Harvest High Tea at the Libbey House \nSaturday\, September 25th @ $35.00 per person \nSponsored by The Women of the Old West End and The Libbey House Foundation \n \nEnjoy delicious assorted specialty teas\, tea sandwiches\, and scrumptious assorted desserts. \nSaturday\, September 25th seatings available at 11:00AM and 1:30PM \nLimited private rooms on second floor available for small groups of 4 to 6 people upon request.  Main dining Room can be requested for parties of 6 to 10 people. \nTickets are $30.00 per person through September 10th. \n$35.00 per person September 11th to September 25th. \n\nAll proceeds go to preserve and maintain the Libbey House and support programs for the Women of the Old West End. The event is the perfect way to celebrate the fall season. Space is limited so purchase your tickets soon to reserve your place. \nReservations are required with limited seating.  The Libbey House offers accessible parking in the lot behind the house off Woodruff\, adjacent to an accessible ramp.
URL:http://libbeyhouse.org/event/harvest-high-tea/
LOCATION:Libbey House\, 2008 Scottwood Avenue\, Toledo\, OH\, 43620\, United States
CATEGORIES:Fundraiser,Tea,Tours
ATTACH;FMTTYPE=image/jpeg:http://libbeyhouse.org/wp-content/uploads/2021/07/Harvest-high-Tea-8.5-x-11-e1625192908873.jpg
ORGANIZER;CN="Libbey House Foundation":MAILTO:libbeyhouse.events@gmail.com
END:VEVENT
BEGIN:VEVENT
DTSTART;TZID=America/Detroit:20210516T110000
DTEND;TZID=America/Detroit:20210516T150000
DTSTAMP:20260422T152112
CREATED:20210225T150426Z
LAST-MODIFIED:20210304T012809Z
UID:1781-1621162800-1621177200@libbeyhouse.org
SUMMARY:MOTHER'S DAY LUNCHEON TEA
DESCRIPTION:“Celebrate Mom” Mother’s Day Luncheon Tea \nSunday May 16th @ $30.00 per person \nThe Libbey House Foundation and Women of the Old West End present a Mother’s Day Luncheon Tea \n \nEnjoy delicious assorted teas\, punch\, cold salads\, tasty soups and scrumptious assorted tea desserts (Vegetarian menu available upon request). \nSunday May 16th seatings available at 11:00AM\, 1:00PM\, and 3:00PM \nLimited private rooms on second floor available for small groups upon request. \nTickets are $30.00 per person through April 30 \n$35.00 per person May 1st to May 16th. \n\nAll proceeds go to preserve and maintain the Libbey House and support programs for the Women of the Old West End. The event is the perfect way to celebrate Mother’s Day. Space is limited so purchase your tickets soon to reserve your place. \nSocial distancing and mask wearing (except when eating and drinking) will be observed and and sanitizer will be available. \nReservations are required; due to social distancing\, seating is limited.  The Libbey House offers accessible parking in the lot behind the house off Woodruff\, adjacent to an accessible ramp.
URL:http://libbeyhouse.org/event/mothers-day-luncheon-tea/
LOCATION:Libbey House\, 2008 Scottwood Avenue\, Toledo\, OH\, 43620\, United States
CATEGORIES:Fundraiser,Tea,Tours
ATTACH;FMTTYPE=image/jpeg:http://libbeyhouse.org/wp-content/uploads/2021/02/Mothers-Day-Image.jpg
ORGANIZER;CN="Libbey House Foundation":MAILTO:libbeyhouse.events@gmail.com
END:VEVENT
BEGIN:VEVENT
DTSTART;TZID=America/Detroit:20210515T110000
DTEND;TZID=America/Detroit:20210515T133000
DTSTAMP:20260422T152112
CREATED:20200220T025408Z
LAST-MODIFIED:20210315T212136Z
UID:1266-1621076400-1621085400@libbeyhouse.org
SUMMARY:MOTHER'S DAY LUNCHEON TEA
DESCRIPTION:“Celebrate Mom” Mother’s Day Luncheon Tea \nSaturday May 15th @ $30.00 per person \nThe Libbey House Foundation and Women of the Old West End present a Mother’s Day Luncheon Tea \n \nEnjoy delicious assorted teas\, punch\, cold salads\, tasty soups and scrumptious assorted tea desserts (Vegetarian menu available upon request). \nSaturday May 15th seatings available at 11:00AM and 1:30PM \nLimited private rooms on second floor available for small groups upon request. \nTickets are $30.00 per person through April 30 \n$35.00 per person May 1st to May 16th. \n\nAll proceeds go to preserve and maintain the Libbey House and support programs for the Women of the Old West End. The event is the perfect way to celebrate Mother’s Day. Space is limited so purchase your tickets soon to reserve your place. \nSocial distancing and mask wearing (except when eating and drinking) will be observed and and sanitizer will be available. \nReservations are required; due to social distancing\, seating is limited.  The Libbey House offers accessible parking in the lot behind the house off Woodruff\, adjacent to an accessible ramp.
URL:http://libbeyhouse.org/event/mothers-day-tea-and-victorian-fashions/
LOCATION:Libbey House\, 2008 Scottwood Avenue\, Toledo\, OH\, 43620\, United States
CATEGORIES:Fundraiser,Tea,Tours
ATTACH;FMTTYPE=image/jpeg:http://libbeyhouse.org/wp-content/uploads/2021/02/Mothers-Day-Image.jpg
ORGANIZER;CN="Libbey House Foundation":MAILTO:libbeyhouse.events@gmail.com
END:VEVENT
BEGIN:VEVENT
DTSTART;TZID=UTC:20201213T110000
DTEND;TZID=UTC:20201213T150000
DTSTAMP:20260422T152112
CREATED:20201021T022038Z
LAST-MODIFIED:20210221T175036Z
UID:1731-1607857200-1607871600@libbeyhouse.org
SUMMARY:A DICKENS CHRISTMAS TEA @ 11:00\, 1:00\, & 3:00
DESCRIPTION:The Libbey House Foundation and the Women of the Old West End Present  \nA Dickens Christmas Tea \n \nEnjoy Delicious Christmas Teas and explore the Magic of Christmas on all three floors\, along with several Dickens characters in authentic reproductions of historical garments from the era of Charles Dickens to be modeled by Kathy and Joe Dowd. \nSunday December 6th and Sunday December 13th \nThree 90-Minute Seatings available: 11:00AM\, 1:00PM and 3:00 PM  \nPrivate Tea Rooms available on the second floor for small groups \nDelicious Christmas Teas\, Wassail\, Tea Sandwiches & Dickens Desserts \n\nSocial distancing and mask wearing (except when eating and drinking) will be observed and and sanitizer will be available. \nReservations are required; due to social distancing\, seating is limited.  The Libbey House offers accessible parking in the lot behind the house off Woodruff\, adjacent to an accessible ramp.
URL:http://libbeyhouse.org/event/lhf-wowe-a-dickens-christmas-tea-2/
LOCATION:Libbey House\, 2008 Scottwood Avenue\, Toledo\, OH\, 43620\, United States
CATEGORIES:Fundraiser,Tea,Tours
ORGANIZER;CN="Libbey House Foundation":MAILTO:libbeyhouse.events@gmail.com
END:VEVENT
BEGIN:VEVENT
DTSTART;TZID=UTC:20201206T110000
DTEND;TZID=UTC:20201206T150000
DTSTAMP:20260422T152112
CREATED:20201021T021802Z
LAST-MODIFIED:20201113T213205Z
UID:1286-1607252400-1607266800@libbeyhouse.org
SUMMARY:A DICKENS CHRISTMAS TEA @ 11:00\, 1:00\, & 3:00
DESCRIPTION:The Libbey House Foundation and the Women of the Old West End Present  \nA Dickens Christmas Tea \n \nEnjoy Delicious Christmas Teas and explore the Magic of Christmas on all three floors\, along with several Dickens characters in authentic reproductions of historical garments from the era of Charles Dickens to be modeled by Kathy and Joe Dowd. \nSunday December 6th and Sunday December 13th \nThree 90-Minute Seatings available: 11:00AM\, 1:00PM and 3:00 PM  \nPrivate Tea Rooms available on the second floor for small groups \nDelicious Christmas Teas\, Wassail\, Tea Sandwiches & Dickens Desserts \n\nSocial distancing and mask wearing (except when eating and drinking) will be observed and and sanitizer will be available. \nReservations are required; due to social distancing\, seating is limited.  The Libbey House offers accessible parking in the lot behind the house off Woodruff\, adjacent to an accessible ramp.
URL:http://libbeyhouse.org/event/lhf-wowe-a-dickens-christmas-tea/
LOCATION:Libbey House\, 2008 Scottwood Avenue\, Toledo\, OH\, 43620\, United States
CATEGORIES:Fundraiser,Tea,Tours
ORGANIZER;CN="Libbey House Foundation":MAILTO:libbeyhouse.events@gmail.com
END:VEVENT
END:VCALENDAR