BEGIN:VCALENDAR
VERSION:2.0
PRODID:-//Historic Libbey House Foundation - ECPv6.15.15//NONSGML v1.0//EN
CALSCALE:GREGORIAN
METHOD:PUBLISH
X-WR-CALNAME:Historic Libbey House Foundation
X-ORIGINAL-URL:http://libbeyhouse.org
X-WR-CALDESC:Events for Historic Libbey House Foundation
REFRESH-INTERVAL;VALUE=DURATION:PT1H
X-Robots-Tag:noindex
X-PUBLISHED-TTL:PT1H
BEGIN:VTIMEZONE
TZID:UTC
BEGIN:STANDARD
TZOFFSETFROM:+0000
TZOFFSETTO:+0000
TZNAME:UTC
DTSTART:20240101T000000
END:STANDARD
END:VTIMEZONE
BEGIN:VTIMEZONE
TZID:America/Detroit
BEGIN:DAYLIGHT
TZOFFSETFROM:-0500
TZOFFSETTO:-0400
TZNAME:EDT
DTSTART:20210314T070000
END:DAYLIGHT
BEGIN:STANDARD
TZOFFSETFROM:-0400
TZOFFSETTO:-0500
TZNAME:EST
DTSTART:20211107T060000
END:STANDARD
BEGIN:DAYLIGHT
TZOFFSETFROM:-0500
TZOFFSETTO:-0400
TZNAME:EDT
DTSTART:20220313T070000
END:DAYLIGHT
BEGIN:STANDARD
TZOFFSETFROM:-0400
TZOFFSETTO:-0500
TZNAME:EST
DTSTART:20221106T060000
END:STANDARD
BEGIN:DAYLIGHT
TZOFFSETFROM:-0500
TZOFFSETTO:-0400
TZNAME:EDT
DTSTART:20230312T070000
END:DAYLIGHT
BEGIN:STANDARD
TZOFFSETFROM:-0400
TZOFFSETTO:-0500
TZNAME:EST
DTSTART:20231105T060000
END:STANDARD
BEGIN:DAYLIGHT
TZOFFSETFROM:-0500
TZOFFSETTO:-0400
TZNAME:EDT
DTSTART:20240310T070000
END:DAYLIGHT
BEGIN:STANDARD
TZOFFSETFROM:-0400
TZOFFSETTO:-0500
TZNAME:EST
DTSTART:20241103T060000
END:STANDARD
BEGIN:DAYLIGHT
TZOFFSETFROM:-0500
TZOFFSETTO:-0400
TZNAME:EDT
DTSTART:20250309T070000
END:DAYLIGHT
BEGIN:STANDARD
TZOFFSETFROM:-0400
TZOFFSETTO:-0500
TZNAME:EST
DTSTART:20251102T060000
END:STANDARD
END:VTIMEZONE
BEGIN:VEVENT
DTSTART;TZID=UTC:20251106T180000
DTEND;TZID=UTC:20251106T200000
DTSTAMP:20260422T211645
CREATED:20250216T192935Z
LAST-MODIFIED:20250729T032824Z
UID:3098-1762452000-1762459200@libbeyhouse.org
SUMMARY:LIBBEY HOUSE WINE TASTING EVENT | Nov 6
DESCRIPTION:Join us for a wine tasting on Thursday\, November 6th\, from 6:00 to 8:00 p.m.  Jim Sautter\, Level One Sommelier\, of Sautter’s Market will provide informal presentations of five (5) fine wines to enjoy with appetizers carefully paired to the wines during this casual evening of wonderful fellowship and fun.  The cost is $40.00. \nDue to limited seating\, tickets are limited to the first 40 registrants.  The cost is $40\, and can be purchased through the Libbey House website: www.libbeyhouse.org. NO REFUNDS. Limited seating – tickets will sell out quickly! \nYour reservation will be documented and there is no “ticket” sent to you. Your confirmation email will serve as your receipt if there are any issues at check in. \nThe Libbey House offers accessible parking in the lot behind the house off Woodruff\, adjacent to an accessible ramp. \nAll ticket sales are NON-REFUNDABLE. If the event is rescheduled\, all ticket purchases will be honored for the rescheduled event date. If the event is canceled\, all ticket purchases will be refunded in full.
URL:http://libbeyhouse.org/event/libbey-house-wine-tasting-event-nov-6/
LOCATION:Libbey House\, 2008 Scottwood Avenue\, Toledo\, OH\, 43620\, United States
CATEGORIES:Fundraiser,Wine Tasting
ATTACH;FMTTYPE=image/jpeg:http://libbeyhouse.org/wp-content/uploads/2019/07/LHF-Wine-Tasting.jpg
ORGANIZER;CN="Libbey House Foundation":MAILTO:libbeyhouse.events@gmail.com
END:VEVENT
BEGIN:VEVENT
DTSTART;TZID=America/Detroit:20241107T180000
DTEND;TZID=America/Detroit:20241107T200000
DTSTAMP:20260422T211645
CREATED:20240620T194325Z
LAST-MODIFIED:20241102T231725Z
UID:2926-1731002400-1731009600@libbeyhouse.org
SUMMARY:LIBBEY HOUSE WINE TASTING EVENT | Nov 7 - SOLD OUT
DESCRIPTION:SOLD OUT – Please check back for other great events presented by the Libbey House Foundation \nJoin us for a wine tasting on Thursday\, November 7th\, from 6:00 to 8:00 p.m.  Jim Sautter\, Level One Sommelier\, of Sautter’s Market will provide informal presentations of five (5) fine wines to enjoy with appetizers carefully paired to the wines during this casual evening of wonderful fellowship and fun.  The cost is $40.00. \nDue to limited seating\, tickets are limited to the first 40 registrants.  The cost is $40\, and can be purchased through the Libbey House website: www.libbeyhouse.org. NO REFUNDS. Limited seating – tickets will sell out quickly! \nYour reservation will be documented and there is no “ticket” sent to you. Your confirmation email will serve as your receipt if there are any issues at check in. \nThe Libbey House offers accessible parking in the lot behind the house off Woodruff\, adjacent to an accessible ramp. \nAll ticket sales are NON-REFUNDABLE. If the event is rescheduled\, all ticket purchases will be honored for the rescheduled event date. If the event is canceled\, all ticket purchases will be refunded in full.
URL:http://libbeyhouse.org/event/libbey-house-wine-tasting-event-6/
LOCATION:Libbey House\, 2008 Scottwood Avenue\, Toledo\, OH\, 43620\, United States
CATEGORIES:Fundraiser,Wine Tasting
ATTACH;FMTTYPE=image/jpeg:http://libbeyhouse.org/wp-content/uploads/2019/07/LHF-Wine-Tasting.jpg
ORGANIZER;CN="Libbey House Foundation":MAILTO:libbeyhouse.events@gmail.com
END:VEVENT
BEGIN:VEVENT
DTSTART;TZID=America/Detroit:20221103T180000
DTEND;TZID=America/Detroit:20221103T200000
DTSTAMP:20260422T211645
CREATED:20220811T013459Z
LAST-MODIFIED:20220818T000156Z
UID:2265-1667498400-1667505600@libbeyhouse.org
SUMMARY:LIBBEY HOUSE WINE TASTING EVENT
DESCRIPTION:Join us for a wine tasting on Thursday\, November 3\, from 6:00 to 8:00 p.m.  Jim Sautter\, Level One Sommelier\, of Sautter’s Market will provide informal presentations of six fine wines (one sparkling\, five others) to enjoy with appetizers carefully paired to the wines during this casual evening of wonderful fellowship and fun.  The cost is $40.00. \nDue to limited seating\, tickets are limited to the first 32 registrants.  The cost is $40\, and can be purchased through the Libbey House website: www.libbeyhouse.org.  The Libbey House offers accessible parking in the lot behind the house off Woodruff\, adjacent to an accessible ramp. Purchase your tickets soon to reserve your place. \nFor your safety and the safety of others\, we encourage masks be worn while in the house\,  except when eating and drinking. Hand sanitizers are available for your use.
URL:http://libbeyhouse.org/event/libbey-house-wine-tasting-event-4/
LOCATION:Libbey House\, 2008 Scottwood Avenue\, Toledo\, OH\, 43620\, United States
CATEGORIES:Fundraiser,Wine Tasting
ATTACH;FMTTYPE=image/jpeg:http://libbeyhouse.org/wp-content/uploads/2019/07/LHF-Wine-Tasting.jpg
ORGANIZER;CN="Libbey House Foundation":MAILTO:libbeyhouse.events@gmail.com
END:VEVENT
END:VCALENDAR