BEGIN:VCALENDAR
VERSION:2.0
PRODID:-//Historic Libbey House Foundation - ECPv6.15.15//NONSGML v1.0//EN
CALSCALE:GREGORIAN
METHOD:PUBLISH
X-ORIGINAL-URL:http://libbeyhouse.org
X-WR-CALDESC:Events for Historic Libbey House Foundation
REFRESH-INTERVAL;VALUE=DURATION:PT1H
X-Robots-Tag:noindex
X-PUBLISHED-TTL:PT1H
BEGIN:VTIMEZONE
TZID:UTC
BEGIN:STANDARD
TZOFFSETFROM:+0000
TZOFFSETTO:+0000
TZNAME:UTC
DTSTART:20200101T000000
END:STANDARD
END:VTIMEZONE
BEGIN:VEVENT
DTSTART;TZID=UTC:20211104T180000
DTEND;TZID=UTC:20211104T200000
DTSTAMP:20260422T000032
CREATED:20210429T234658Z
LAST-MODIFIED:20210911T001257Z
UID:1818-1636048800-1636056000@libbeyhouse.org
SUMMARY:LIBBEY HOUSE WINE TASTING EVENT
DESCRIPTION:Join us for a wine tasting on Thursday\, November 4\, from 6:00 to 8:00 p.m.  Jim Sautter\, Level One Sommelier\, of Sautter’s Market with provide informal presentations of six fine wines (one sparkling\, five others) to enjoy with appetizers carefully paired to the wines during this casual evening of wonderful fellowship and fun.  The cost is $40.00. \nDue to limited seating\, tickets are limited to the first 36 registrants.  The cost is $40\, and can be purchased through the Libbey House website: www.libbeyhouse.org.  The Libbey House offers accessible parking in the lot behind the house off Woodruff\, adjacent to an accessible ramp. Purchase your tickets soon to reserve your place. \nFor your safety and the safety of others\, we request masks be worn while in the house\,  except when eating and drinking. Hand sanitizers are available for your use.
URL:http://libbeyhouse.org/event/libbey-house-wine-tasting-event-3/
LOCATION:Libbey House\, 2008 Scottwood Avenue\, Toledo\, OH\, 43620\, United States
CATEGORIES:Fundraiser
ATTACH;FMTTYPE=image/jpeg:http://libbeyhouse.org/wp-content/uploads/2019/07/LHF-Wine-Tasting.jpg
ORGANIZER;CN="Libbey House Foundation":MAILTO:libbeyhouse.events@gmail.com
END:VEVENT
END:VCALENDAR