BEGIN:VCALENDAR
VERSION:2.0
PRODID:-//Historic Libbey House Foundation - ECPv6.15.15//NONSGML v1.0//EN
CALSCALE:GREGORIAN
METHOD:PUBLISH
X-ORIGINAL-URL:http://libbeyhouse.org
X-WR-CALDESC:Events for Historic Libbey House Foundation
REFRESH-INTERVAL;VALUE=DURATION:PT1H
X-Robots-Tag:noindex
X-PUBLISHED-TTL:PT1H
BEGIN:VTIMEZONE
TZID:America/Detroit
BEGIN:DAYLIGHT
TZOFFSETFROM:-0500
TZOFFSETTO:-0400
TZNAME:EDT
DTSTART:20240310T070000
END:DAYLIGHT
BEGIN:STANDARD
TZOFFSETFROM:-0400
TZOFFSETTO:-0500
TZNAME:EST
DTSTART:20241103T060000
END:STANDARD
BEGIN:DAYLIGHT
TZOFFSETFROM:-0500
TZOFFSETTO:-0400
TZNAME:EDT
DTSTART:20250309T070000
END:DAYLIGHT
BEGIN:STANDARD
TZOFFSETFROM:-0400
TZOFFSETTO:-0500
TZNAME:EST
DTSTART:20251102T060000
END:STANDARD
BEGIN:DAYLIGHT
TZOFFSETFROM:-0500
TZOFFSETTO:-0400
TZNAME:EDT
DTSTART:20260308T070000
END:DAYLIGHT
BEGIN:STANDARD
TZOFFSETFROM:-0400
TZOFFSETTO:-0500
TZNAME:EST
DTSTART:20261101T060000
END:STANDARD
END:VTIMEZONE
BEGIN:VEVENT
DTSTART;TZID=America/Detroit:20251121T110000
DTEND;TZID=America/Detroit:20251122T180000
DTSTAMP:20260423T024054
CREATED:20250307T015711Z
LAST-MODIFIED:20250912T181914Z
UID:3110-1763722800-1763834400@libbeyhouse.org
SUMMARY:Local Artists' HOLIDAY TRUNK SALE | Nov 21-22
DESCRIPTION:The Arts Commission of Greater Toledo presents: Local Artists’ Holiday Trunk Sale | Friday 5-8 & Saturday 11-6\n\nFall Fundraiser Featuring Local Artists\nBe inspired for holiday gift giving and beautiful décor by talented local artists. Artwork from over 20 local artists will be available for viewing and purchase at the historic Libbey House in the Old West End neighborhood of Toledo. Guests will have the opportunity to meet the artists and enjoy beverages\, appetizers\, and the holiday décor of the Libbey House. \nEvent Information\nPREVIEW PARTY $25.00 Admission \nFeaturing live painting by Aaron Bivins\, silent auction items\, hors d’oeuvres\, specialty cocktails \nFriday\, November 21\, 2025 \n5:00PM to 8:00PM \n  \nSHOW $10.00 Admission \nSaturday\, November 22\, 2025 \n11:00AM to 6:00PM \nTickets can be purchased through The Arts Commission. \n\n\nThis is a fundraising event with a portion of proceeds being donated to The Arts Commission. \nParticipating Artists\nPast artists participating in this event: \nAdam Goldberg\, Amber LeFever-Soboleski\, Adam Soboleski\, Ann Tubbs\, Chuchen Song\, Cyd Gottlieb\, Dani Herrera\, Eamon King\, Fraser Phibbs\, Jaci Riley\, Julie Schnell Madden\, Kacey McCreery\, Kathy Rennels\, Kayla Kirk\, Ken Miller\, Leonard Marty\, Lia Colapietro\, Lindsay Williams / Avert Adornments\, Lisa Grizaniuk\, Matt Paskiet – Firenation Glass Studio and Gallery\, Mike Stevens\, Ryan Thompson\, Steve Cothern\, Tess Healy\, Tim Spurchise\, Tom Marino\, Toledo School for the Arts \nThe Libbey House is located in Toledo’s Historic Old West End at 2008 Scottwood.  Accessible parking for those requiring it is available at the rear of the house off Woodruff\, and an accessible ramp to the front of the house is located adjacent to the parking.
URL:http://libbeyhouse.org/event/local-artists-holiday-trunk-sale-nov-21-22/
LOCATION:Libbey House\, 2008 Scottwood Avenue\, Toledo\, OH\, 43620\, United States
CATEGORIES:Fundraiser,Holiday,Libbey,Tours
ATTACH;FMTTYPE=image/jpeg:http://libbeyhouse.org/wp-content/uploads/2024/08/Trunk-Show-Image.jpg
END:VEVENT
END:VCALENDAR