BEGIN:VCALENDAR
VERSION:2.0
PRODID:-//Historic Libbey House Foundation - ECPv6.15.15//NONSGML v1.0//EN
CALSCALE:GREGORIAN
METHOD:PUBLISH
X-ORIGINAL-URL:http://libbeyhouse.org
X-WR-CALDESC:Events for Historic Libbey House Foundation
REFRESH-INTERVAL;VALUE=DURATION:PT1H
X-Robots-Tag:noindex
X-PUBLISHED-TTL:PT1H
BEGIN:VTIMEZONE
TZID:UTC
BEGIN:STANDARD
TZOFFSETFROM:+0000
TZOFFSETTO:+0000
TZNAME:UTC
DTSTART:20240101T000000
END:STANDARD
END:VTIMEZONE
BEGIN:VEVENT
DTSTART;TZID=UTC:20251214T110000
DTEND;TZID=UTC:20251214T150000
DTSTAMP:20260423T024411
CREATED:20251104T005533Z
LAST-MODIFIED:20251104T005757Z
UID:3233-1765710000-1765724400@libbeyhouse.org
SUMMARY:WINTERFEST: LIBBEY HOUSE CHRISTMAS OPEN HOUSE | Dec 14
DESCRIPTION:The Libbey House Foundation Presents \nWINTERFEST: Libbey House Christmas Open House \n \nSunday\, December 14th \nLibbey House Christmas Open House between 11:00 AM – 3:00 PM \nTour the Libbey House exploring the magic of Christmas on all three floors – FREE admission. (no reservations required) \nVisit the Tea Room for tea or hot chocolate and cookies for $5.00 at the door. (no reservations required) \n \nThe Libbey House offers accessible parking in the lot behind the house off Woodruff\, adjacent to an accessible ramp.
URL:http://libbeyhouse.org/event/winterfest-libbey-house-christmas-tour-dec-14/
LOCATION:Libbey House\, 2008 Scottwood Avenue\, Toledo\, OH\, 43620\, United States
CATEGORIES:Holiday,Libbey,Tours
ATTACH;FMTTYPE=image/jpeg:http://libbeyhouse.org/wp-content/uploads/2023/10/Christmas-Decorations.jpg
ORGANIZER;CN="Libbey House Foundation":MAILTO:libbeyhouse.events@gmail.com
END:VEVENT
END:VCALENDAR